BEGIN:VCALENDAR
VERSION:2.0
PRODID:-//Kücknitzer Jugend e.V. - ECPv6.10.1.1//NONSGML v1.0//EN
CALSCALE:GREGORIAN
METHOD:PUBLISH
X-WR-CALNAME:Kücknitzer Jugend e.V.
X-ORIGINAL-URL:https://www.kuecknitzer-jugend.de
X-WR-CALDESC:Veranstaltungen für Kücknitzer Jugend e.V.
REFRESH-INTERVAL;VALUE=DURATION:PT1H
X-Robots-Tag:noindex
X-PUBLISHED-TTL:PT1H
BEGIN:VTIMEZONE
TZID:Europe/Berlin
BEGIN:DAYLIGHT
TZOFFSETFROM:+0100
TZOFFSETTO:+0200
TZNAME:CEST
DTSTART:20230326T010000
END:DAYLIGHT
BEGIN:STANDARD
TZOFFSETFROM:+0200
TZOFFSETTO:+0100
TZNAME:CET
DTSTART:20231029T010000
END:STANDARD
END:VTIMEZONE
BEGIN:VEVENT
DTSTART;TZID=Europe/Berlin:20230625T110000
DTEND;TZID=Europe/Berlin:20230625T160000
DTSTAMP:20260421T140003
CREATED:20230515T191312Z
LAST-MODIFIED:20230515T191404Z
UID:495-1687690800-1687708800@www.kuecknitzer-jugend.de
SUMMARY:Kinderfest TSV Kücknitz
DESCRIPTION:
URL:https://www.kuecknitzer-jugend.de/event/kinderfest-tsv-kuecknitz/
END:VEVENT
END:VCALENDAR