BEGIN:VCALENDAR
VERSION:2.0
PRODID:-//Kücknitzer Jugend e.V. - ECPv6.10.1.1//NONSGML v1.0//EN
CALSCALE:GREGORIAN
METHOD:PUBLISH
X-ORIGINAL-URL:https://www.kuecknitzer-jugend.de
X-WR-CALDESC:Veranstaltungen für Kücknitzer Jugend e.V.
REFRESH-INTERVAL;VALUE=DURATION:PT1H
X-Robots-Tag:noindex
X-PUBLISHED-TTL:PT1H
BEGIN:VTIMEZONE
TZID:Europe/Berlin
BEGIN:DAYLIGHT
TZOFFSETFROM:+0100
TZOFFSETTO:+0200
TZNAME:CEST
DTSTART:20220327T010000
END:DAYLIGHT
BEGIN:STANDARD
TZOFFSETFROM:+0200
TZOFFSETTO:+0100
TZNAME:CET
DTSTART:20221030T010000
END:STANDARD
END:VTIMEZONE
BEGIN:VEVENT
DTSTART;TZID=Europe/Berlin:20221203T110000
DTEND;TZID=Europe/Berlin:20221203T170000
DTSTAMP:20260423T124245
CREATED:20221129T203824Z
LAST-MODIFIED:20221129T204135Z
UID:465-1670065200-1670086800@www.kuecknitzer-jugend.de
SUMMARY:Kücknitzer Adventsmarkt
DESCRIPTION:
URL:https://www.kuecknitzer-jugend.de/event/kuecknnitzer-adventsmarkt/
LOCATION:Kücknitz Kirchplatz\, Dummersdorfer Str. 2a\, Kücknitz
END:VEVENT
END:VCALENDAR