BEGIN:VCALENDAR
VERSION:2.0
PRODID:-//Kücknitzer Jugend e.V. - ECPv6.10.1.1//NONSGML v1.0//EN
CALSCALE:GREGORIAN
METHOD:PUBLISH
X-ORIGINAL-URL:https://www.kuecknitzer-jugend.de
X-WR-CALDESC:Veranstaltungen für Kücknitzer Jugend e.V.
REFRESH-INTERVAL;VALUE=DURATION:PT1H
X-Robots-Tag:noindex
X-PUBLISHED-TTL:PT1H
BEGIN:VTIMEZONE
TZID:Europe/Berlin
BEGIN:DAYLIGHT
TZOFFSETFROM:+0100
TZOFFSETTO:+0200
TZNAME:CEST
DTSTART:20230326T010000
END:DAYLIGHT
BEGIN:STANDARD
TZOFFSETFROM:+0200
TZOFFSETTO:+0100
TZNAME:CET
DTSTART:20231029T010000
END:STANDARD
END:VTIMEZONE
BEGIN:VEVENT
DTSTART;TZID=Europe/Berlin:20230510T183000
DTEND;TZID=Europe/Berlin:20230510T200000
DTSTAMP:20260421T091427
CREATED:20230322T201353Z
LAST-MODIFIED:20230504T194445Z
UID:474-1683743400-1683748800@www.kuecknitzer-jugend.de
SUMMARY:Jahreshauptversammlung
DESCRIPTION:Einladung zur JH 2023
URL:https://www.kuecknitzer-jugend.de/event/jahreshauptversammlung-2/
LOCATION:Gemeindehaus\, Dummersdorfer Str. 2\, Lübeck-Kücknitz
END:VEVENT
BEGIN:VEVENT
DTSTART;TZID=Europe/Berlin:20230518T110000
DTEND;TZID=Europe/Berlin:20230518T180000
DTSTAMP:20260421T091427
CREATED:20230515T190924Z
LAST-MODIFIED:20230515T190924Z
UID:486-1684407600-1684432800@www.kuecknitzer-jugend.de
SUMMARY:Tag der offenen Tür
DESCRIPTION:
URL:https://www.kuecknitzer-jugend.de/event/tag-der-offenen-tuer/
LOCATION:Solmitzstr. 28
END:VEVENT
BEGIN:VEVENT
DTSTART;TZID=Europe/Berlin:20230528T110000
DTEND;TZID=Europe/Berlin:20230528T180000
DTSTAMP:20260421T091427
CREATED:20230515T191640Z
LAST-MODIFIED:20230515T191640Z
UID:499-1685271600-1685296800@www.kuecknitzer-jugend.de
SUMMARY:Tag der offenen Tür
DESCRIPTION:
URL:https://www.kuecknitzer-jugend.de/event/tag-der-offenen-tuer-2/
END:VEVENT
END:VCALENDAR