BEGIN:VCALENDAR
VERSION:2.0
PRODID:-//Kücknitzer Jugend e.V. - ECPv6.10.1.1//NONSGML v1.0//EN
CALSCALE:GREGORIAN
METHOD:PUBLISH
X-ORIGINAL-URL:https://www.kuecknitzer-jugend.de
X-WR-CALDESC:Veranstaltungen für Kücknitzer Jugend e.V.
REFRESH-INTERVAL;VALUE=DURATION:PT1H
X-Robots-Tag:noindex
X-PUBLISHED-TTL:PT1H
BEGIN:VTIMEZONE
TZID:Europe/Berlin
BEGIN:DAYLIGHT
TZOFFSETFROM:+0100
TZOFFSETTO:+0200
TZNAME:CEST
DTSTART:20230326T010000
END:DAYLIGHT
BEGIN:STANDARD
TZOFFSETFROM:+0200
TZOFFSETTO:+0100
TZNAME:CET
DTSTART:20231029T010000
END:STANDARD
END:VTIMEZONE
BEGIN:VEVENT
DTSTART;TZID=Europe/Berlin:20231103T190000
DTEND;TZID=Europe/Berlin:20231103T210000
DTSTAMP:20260421T140527
CREATED:20230322T201553Z
LAST-MODIFIED:20230924T072432Z
UID:478-1699038000-1699045200@www.kuecknitzer-jugend.de
SUMMARY:Sternmarsch
DESCRIPTION:Streckenverlauf 2023
URL:https://www.kuecknitzer-jugend.de/event/sternmarsch-2/
LOCATION:Kücknitz Kirchplatz\, Dummersdorfer Str. 2a\, Kücknitz
END:VEVENT
END:VCALENDAR